BEGIN:VCALENDAR
VERSION:2.0
PRODID:-//Roxy Theater - ECPv6.15.11//NONSGML v1.0//EN
CALSCALE:GREGORIAN
METHOD:PUBLISH
X-ORIGINAL-URL:https://mortonroxy.org
X-WR-CALDESC:Events for Roxy Theater
REFRESH-INTERVAL;VALUE=DURATION:PT1H
X-Robots-Tag:noindex
X-PUBLISHED-TTL:PT1H
BEGIN:VTIMEZONE
TZID:America/Los_Angeles
BEGIN:DAYLIGHT
TZOFFSETFROM:-0800
TZOFFSETTO:-0700
TZNAME:PDT
DTSTART:20240310T100000
END:DAYLIGHT
BEGIN:STANDARD
TZOFFSETFROM:-0700
TZOFFSETTO:-0800
TZNAME:PST
DTSTART:20241103T090000
END:STANDARD
BEGIN:DAYLIGHT
TZOFFSETFROM:-0800
TZOFFSETTO:-0700
TZNAME:PDT
DTSTART:20250309T100000
END:DAYLIGHT
BEGIN:STANDARD
TZOFFSETFROM:-0700
TZOFFSETTO:-0800
TZNAME:PST
DTSTART:20251102T090000
END:STANDARD
BEGIN:DAYLIGHT
TZOFFSETFROM:-0800
TZOFFSETTO:-0700
TZNAME:PDT
DTSTART:20260308T100000
END:DAYLIGHT
BEGIN:STANDARD
TZOFFSETFROM:-0700
TZOFFSETTO:-0800
TZNAME:PST
DTSTART:20261101T090000
END:STANDARD
BEGIN:DAYLIGHT
TZOFFSETFROM:-0800
TZOFFSETTO:-0700
TZNAME:PDT
DTSTART:20270314T100000
END:DAYLIGHT
BEGIN:STANDARD
TZOFFSETFROM:-0700
TZOFFSETTO:-0800
TZNAME:PST
DTSTART:20271107T090000
END:STANDARD
END:VTIMEZONE
BEGIN:VEVENT
DTSTART;TZID=America/Los_Angeles:20250802T140000
DTEND;TZID=America/Los_Angeles:20250802T160000
DTSTAMP:20260419T232316
CREATED:20250730T032634Z
LAST-MODIFIED:20250730T033039Z
UID:10001267-1754143200-1754150400@mortonroxy.org
SUMMARY:Pirates of Penzance
DESCRIPTION:
URL:https://mortonroxy.org/event/pirates-of-penzance-2/2025-08-02/
LOCATION:Morton Roxy Theater\, 233 Main Ave\, Morton\, WA\, 98356\, United States
CATEGORIES:Community Theatre
ATTACH;FMTTYPE=image/jpeg:https://mortonroxy.org/wp-content/uploads/2025/05/Pirates-simpified--e1759372851507.jpg
END:VEVENT
BEGIN:VEVENT
DTSTART;TZID=America/Los_Angeles:20250805T190000
DTEND;TZID=America/Los_Angeles:20250805T210000
DTSTAMP:20260419T232316
CREATED:20250730T032634Z
LAST-MODIFIED:20250730T033039Z
UID:10001268-1754420400-1754427600@mortonroxy.org
SUMMARY:Pirates of Penzance
DESCRIPTION:
URL:https://mortonroxy.org/event/pirates-of-penzance-2/2025-08-05/
LOCATION:Morton Roxy Theater\, 233 Main Ave\, Morton\, WA\, 98356\, United States
CATEGORIES:Community Theatre
ATTACH;FMTTYPE=image/jpeg:https://mortonroxy.org/wp-content/uploads/2025/05/Pirates-simpified--e1759372851507.jpg
END:VEVENT
BEGIN:VEVENT
DTSTART;TZID=America/Los_Angeles:20250806T190000
DTEND;TZID=America/Los_Angeles:20250806T210000
DTSTAMP:20260419T232316
CREATED:20250730T032634Z
LAST-MODIFIED:20250730T033039Z
UID:10001269-1754506800-1754514000@mortonroxy.org
SUMMARY:Pirates of Penzance
DESCRIPTION:
URL:https://mortonroxy.org/event/pirates-of-penzance-2/2025-08-06/
LOCATION:Morton Roxy Theater\, 233 Main Ave\, Morton\, WA\, 98356\, United States
CATEGORIES:Community Theatre
ATTACH;FMTTYPE=image/jpeg:https://mortonroxy.org/wp-content/uploads/2025/05/Pirates-simpified--e1759372851507.jpg
END:VEVENT
BEGIN:VEVENT
DTSTART;TZID=America/Los_Angeles:20250809T190000
DTEND;TZID=America/Los_Angeles:20250809T210000
DTSTAMP:20260419T232316
CREATED:20250730T032634Z
LAST-MODIFIED:20250730T033039Z
UID:10001270-1754766000-1754773200@mortonroxy.org
SUMMARY:Pirates of Penzance
DESCRIPTION:
URL:https://mortonroxy.org/event/pirates-of-penzance-2/2025-08-09/
LOCATION:Morton Roxy Theater\, 233 Main Ave\, Morton\, WA\, 98356\, United States
CATEGORIES:Community Theatre
ATTACH;FMTTYPE=image/jpeg:https://mortonroxy.org/wp-content/uploads/2025/05/Pirates-simpified--e1759372851507.jpg
END:VEVENT
BEGIN:VEVENT
DTSTART;TZID=America/Los_Angeles:20250913T103000
DTEND;TZID=America/Los_Angeles:20250913T113000
DTSTAMP:20260419T232316
CREATED:20250815T020439Z
LAST-MODIFIED:20250906T060705Z
UID:10001275-1757759400-1757763000@mortonroxy.org
SUMMARY:Open Auditions for Clue
DESCRIPTION:
URL:https://mortonroxy.org/event/auditions-for-clue/2025-09-13/
CATEGORIES:Community Theatre
ATTACH;FMTTYPE=image/png:https://mortonroxy.org/wp-content/uploads/2025/08/clue-sq-e1755223921523.png
END:VEVENT
BEGIN:VEVENT
DTSTART;TZID=America/Los_Angeles:20250916T183000
DTEND;TZID=America/Los_Angeles:20250916T193000
DTSTAMP:20260419T232316
CREATED:20250815T020439Z
LAST-MODIFIED:20250906T060705Z
UID:10001276-1758047400-1758051000@mortonroxy.org
SUMMARY:Open Auditions for Clue
DESCRIPTION:
URL:https://mortonroxy.org/event/auditions-for-clue/2025-09-16/
CATEGORIES:Community Theatre
ATTACH;FMTTYPE=image/png:https://mortonroxy.org/wp-content/uploads/2025/08/clue-sq-e1755223921523.png
END:VEVENT
BEGIN:VEVENT
DTSTART;TZID=America/Los_Angeles:20251107T190000
DTEND;TZID=America/Los_Angeles:20251107T210000
DTSTAMP:20260419T232316
CREATED:20250930T054849Z
LAST-MODIFIED:20251002T024948Z
UID:10001312-1762542000-1762549200@mortonroxy.org
SUMMARY:Clue
DESCRIPTION:
URL:https://mortonroxy.org/event/clue/2025-11-07/
LOCATION:Morton Roxy Theater\, 233 Main Ave\, Morton\, WA\, 98356\, United States
CATEGORIES:Community Theatre
ATTACH;FMTTYPE=image/png:https://mortonroxy.org/wp-content/uploads/2025/09/1-3.png
END:VEVENT
BEGIN:VEVENT
DTSTART;TZID=America/Los_Angeles:20251108T140000
DTEND;TZID=America/Los_Angeles:20251108T160000
DTSTAMP:20260419T232316
CREATED:20250930T054849Z
LAST-MODIFIED:20251002T024948Z
UID:10001313-1762610400-1762617600@mortonroxy.org
SUMMARY:Clue
DESCRIPTION:
URL:https://mortonroxy.org/event/clue/2025-11-08/
LOCATION:Morton Roxy Theater\, 233 Main Ave\, Morton\, WA\, 98356\, United States
CATEGORIES:Community Theatre
ATTACH;FMTTYPE=image/png:https://mortonroxy.org/wp-content/uploads/2025/09/1-3.png
END:VEVENT
BEGIN:VEVENT
DTSTART;TZID=America/Los_Angeles:20251112T190000
DTEND;TZID=America/Los_Angeles:20251112T210000
DTSTAMP:20260419T232316
CREATED:20250930T054849Z
LAST-MODIFIED:20251002T024948Z
UID:10001316-1762974000-1762981200@mortonroxy.org
SUMMARY:Clue
DESCRIPTION:
URL:https://mortonroxy.org/event/clue/2025-11-12/
LOCATION:Morton Roxy Theater\, 233 Main Ave\, Morton\, WA\, 98356\, United States
CATEGORIES:Community Theatre
ATTACH;FMTTYPE=image/png:https://mortonroxy.org/wp-content/uploads/2025/09/1-3.png
END:VEVENT
BEGIN:VEVENT
DTSTART;TZID=America/Los_Angeles:20251114T190000
DTEND;TZID=America/Los_Angeles:20251114T210000
DTSTAMP:20260419T232316
CREATED:20250930T054849Z
LAST-MODIFIED:20251002T024948Z
UID:10001314-1763146800-1763154000@mortonroxy.org
SUMMARY:Clue
DESCRIPTION:
URL:https://mortonroxy.org/event/clue/2025-11-14/
LOCATION:Morton Roxy Theater\, 233 Main Ave\, Morton\, WA\, 98356\, United States
CATEGORIES:Community Theatre
ATTACH;FMTTYPE=image/png:https://mortonroxy.org/wp-content/uploads/2025/09/1-3.png
END:VEVENT
BEGIN:VEVENT
DTSTART;TZID=America/Los_Angeles:20251115T140000
DTEND;TZID=America/Los_Angeles:20251115T160000
DTSTAMP:20260419T232316
CREATED:20250930T054849Z
LAST-MODIFIED:20251002T024948Z
UID:10001315-1763215200-1763222400@mortonroxy.org
SUMMARY:Clue
DESCRIPTION:
URL:https://mortonroxy.org/event/clue/2025-11-15/
LOCATION:Morton Roxy Theater\, 233 Main Ave\, Morton\, WA\, 98356\, United States
CATEGORIES:Community Theatre
ATTACH;FMTTYPE=image/png:https://mortonroxy.org/wp-content/uploads/2025/09/1-3.png
END:VEVENT
BEGIN:VEVENT
DTSTART;TZID=America/Los_Angeles:20260205T183000
DTEND;TZID=America/Los_Angeles:20260205T203000
DTSTAMP:20260419T232316
CREATED:20260129T035028Z
LAST-MODIFIED:20260129T035028Z
UID:10001396-1770316200-1770323400@mortonroxy.org
SUMMARY:Auditions: The Lion in Winter
DESCRIPTION:
URL:https://mortonroxy.org/event/auditions-the-lion-in-winter/2026-02-05/
CATEGORIES:Community Theatre
ATTACH;FMTTYPE=image/png:https://mortonroxy.org/wp-content/uploads/2026/01/lion-in-winter.png
END:VEVENT
BEGIN:VEVENT
DTSTART;TZID=America/Los_Angeles:20260207T103000
DTEND;TZID=America/Los_Angeles:20260207T123000
DTSTAMP:20260419T232316
CREATED:20260129T035028Z
LAST-MODIFIED:20260129T035028Z
UID:10001397-1770460200-1770467400@mortonroxy.org
SUMMARY:Auditions: The Lion in Winter
DESCRIPTION:
URL:https://mortonroxy.org/event/auditions-the-lion-in-winter/2026-02-07/
CATEGORIES:Community Theatre
ATTACH;FMTTYPE=image/png:https://mortonroxy.org/wp-content/uploads/2026/01/lion-in-winter.png
END:VEVENT
BEGIN:VEVENT
DTSTART;TZID=America/Los_Angeles:20260213T180000
DTEND;TZID=America/Los_Angeles:20260213T210000
DTSTAMP:20260419T232316
CREATED:20260129T031510Z
LAST-MODIFIED:20260129T032055Z
UID:10001392-1771005600-1771016400@mortonroxy.org
SUMMARY:Steel Magnolias
DESCRIPTION:
URL:https://mortonroxy.org/event/steel-magnolias/2026-02-13/
CATEGORIES:Community Theatre
ATTACH;FMTTYPE=image/png:https://mortonroxy.org/wp-content/uploads/2026/01/new-Magnolias.png
END:VEVENT
BEGIN:VEVENT
DTSTART;TZID=America/Los_Angeles:20260214T180000
DTEND;TZID=America/Los_Angeles:20260214T210000
DTSTAMP:20260419T232316
CREATED:20260129T031510Z
LAST-MODIFIED:20260129T032055Z
UID:10001393-1771092000-1771102800@mortonroxy.org
SUMMARY:Steel Magnolias
DESCRIPTION:
URL:https://mortonroxy.org/event/steel-magnolias/2026-02-14/
CATEGORIES:Community Theatre
ATTACH;FMTTYPE=image/png:https://mortonroxy.org/wp-content/uploads/2026/01/new-Magnolias.png
END:VEVENT
BEGIN:VEVENT
DTSTART;TZID=America/Los_Angeles:20260220T180000
DTEND;TZID=America/Los_Angeles:20260220T210000
DTSTAMP:20260419T232316
CREATED:20260129T031510Z
LAST-MODIFIED:20260129T032055Z
UID:10001394-1771610400-1771621200@mortonroxy.org
SUMMARY:Steel Magnolias
DESCRIPTION:
URL:https://mortonroxy.org/event/steel-magnolias/2026-02-20/
CATEGORIES:Community Theatre
ATTACH;FMTTYPE=image/png:https://mortonroxy.org/wp-content/uploads/2026/01/new-Magnolias.png
END:VEVENT
BEGIN:VEVENT
DTSTART;TZID=America/Los_Angeles:20260221T130000
DTEND;TZID=America/Los_Angeles:20260221T160000
DTSTAMP:20260419T232316
CREATED:20260129T031510Z
LAST-MODIFIED:20260129T032055Z
UID:10001395-1771678800-1771689600@mortonroxy.org
SUMMARY:Steel Magnolias
DESCRIPTION:
URL:https://mortonroxy.org/event/steel-magnolias/2026-02-21/
CATEGORIES:Community Theatre
ATTACH;FMTTYPE=image/png:https://mortonroxy.org/wp-content/uploads/2026/01/new-Magnolias.png
END:VEVENT
BEGIN:VEVENT
DTSTART;VALUE=DATE:20260731
DTEND;VALUE=DATE:20260801
DTSTAMP:20260419T232316
CREATED:20260413T040748Z
LAST-MODIFIED:20260413T040748Z
UID:10001457-1785456000-1785542399@mortonroxy.org
SUMMARY:Camelot Auditions
DESCRIPTION:
URL:https://mortonroxy.org/event/camelot-auditions/2026-07-31/
LOCATION:Morton Roxy Theater\, 233 Main Ave\, Morton\, WA\, 98356\, United States
CATEGORIES:Community Theatre
ATTACH;FMTTYPE=image/jpeg:https://mortonroxy.org/wp-content/uploads/2026/04/Camelot-3-002.jpeg
END:VEVENT
BEGIN:VEVENT
DTSTART;VALUE=DATE:20260801
DTEND;VALUE=DATE:20260802
DTSTAMP:20260419T232316
CREATED:20260413T040748Z
LAST-MODIFIED:20260413T040748Z
UID:10001458-1785571200-1785603600@mortonroxy.org
SUMMARY:Camelot Auditions
DESCRIPTION:
URL:https://mortonroxy.org/event/camelot-auditions/2026-08-01/
LOCATION:Morton Roxy Theater\, 233 Main Ave\, Morton\, WA\, 98356\, United States
CATEGORIES:Community Theatre
ATTACH;FMTTYPE=image/jpeg:https://mortonroxy.org/wp-content/uploads/2026/04/Camelot-3-002.jpeg
END:VEVENT
BEGIN:VEVENT
DTSTART;VALUE=DATE:20260804
DTEND;VALUE=DATE:20260805
DTSTAMP:20260419T232316
CREATED:20260413T040748Z
LAST-MODIFIED:20260413T040748Z
UID:10001459-1785830400-1785862800@mortonroxy.org
SUMMARY:Camelot Auditions
DESCRIPTION:
URL:https://mortonroxy.org/event/camelot-auditions/2026-08-04/
LOCATION:Morton Roxy Theater\, 233 Main Ave\, Morton\, WA\, 98356\, United States
CATEGORIES:Community Theatre
ATTACH;FMTTYPE=image/jpeg:https://mortonroxy.org/wp-content/uploads/2026/04/Camelot-3-002.jpeg
END:VEVENT
BEGIN:VEVENT
DTSTART;VALUE=DATE:20260805
DTEND;VALUE=DATE:20260806
DTSTAMP:20260419T232316
CREATED:20260413T040748Z
LAST-MODIFIED:20260413T040748Z
UID:10001460-1785916800-1785949200@mortonroxy.org
SUMMARY:Camelot Auditions
DESCRIPTION:
URL:https://mortonroxy.org/event/camelot-auditions/2026-08-05/
LOCATION:Morton Roxy Theater\, 233 Main Ave\, Morton\, WA\, 98356\, United States
CATEGORIES:Community Theatre
ATTACH;FMTTYPE=image/jpeg:https://mortonroxy.org/wp-content/uploads/2026/04/Camelot-3-002.jpeg
END:VEVENT
BEGIN:VEVENT
DTSTART;VALUE=DATE:20260808
DTEND;VALUE=DATE:20260809
DTSTAMP:20260419T232316
CREATED:20260413T040748Z
LAST-MODIFIED:20260413T040748Z
UID:10001461-1786176000-1786208400@mortonroxy.org
SUMMARY:Camelot Auditions
DESCRIPTION:
URL:https://mortonroxy.org/event/camelot-auditions/2026-08-08/
LOCATION:Morton Roxy Theater\, 233 Main Ave\, Morton\, WA\, 98356\, United States
CATEGORIES:Community Theatre
ATTACH;FMTTYPE=image/jpeg:https://mortonroxy.org/wp-content/uploads/2026/04/Camelot-3-002.jpeg
END:VEVENT
END:VCALENDAR