BEGIN:VCALENDAR
VERSION:2.0
PRODID:-//Roxy Theater - ECPv6.15.11//NONSGML v1.0//EN
CALSCALE:GREGORIAN
METHOD:PUBLISH
X-ORIGINAL-URL:https://mortonroxy.org
X-WR-CALDESC:Events for Roxy Theater
REFRESH-INTERVAL;VALUE=DURATION:PT1H
X-Robots-Tag:noindex
X-PUBLISHED-TTL:PT1H
BEGIN:VTIMEZONE
TZID:America/Los_Angeles
BEGIN:DAYLIGHT
TZOFFSETFROM:-0800
TZOFFSETTO:-0700
TZNAME:PDT
DTSTART:20240310T100000
END:DAYLIGHT
BEGIN:STANDARD
TZOFFSETFROM:-0700
TZOFFSETTO:-0800
TZNAME:PST
DTSTART:20241103T090000
END:STANDARD
BEGIN:DAYLIGHT
TZOFFSETFROM:-0800
TZOFFSETTO:-0700
TZNAME:PDT
DTSTART:20250309T100000
END:DAYLIGHT
BEGIN:STANDARD
TZOFFSETFROM:-0700
TZOFFSETTO:-0800
TZNAME:PST
DTSTART:20251102T090000
END:STANDARD
BEGIN:DAYLIGHT
TZOFFSETFROM:-0800
TZOFFSETTO:-0700
TZNAME:PDT
DTSTART:20260308T100000
END:DAYLIGHT
BEGIN:STANDARD
TZOFFSETFROM:-0700
TZOFFSETTO:-0800
TZNAME:PST
DTSTART:20261101T090000
END:STANDARD
END:VTIMEZONE
BEGIN:VEVENT
DTSTART;TZID=America/Los_Angeles:20251103T190000
DTEND;TZID=America/Los_Angeles:20251103T211500
DTSTAMP:20260419T174911
CREATED:20251024T183621Z
LAST-MODIFIED:20251103T042827Z
UID:10001331-1762196400-1762204500@mortonroxy.org
SUMMARY:Truth & Treason
DESCRIPTION:
URL:https://mortonroxy.org/event/truth-and-treason/2025-11-03/
LOCATION:Morton Roxy Theater\, 233 Main Ave\, Morton\, WA\, 98356\, United States
CATEGORIES:Movies
ATTACH;FMTTYPE=image/jpeg:https://mortonroxy.org/wp-content/uploads/2025/10/tT-theaters-e1761636371964.jpg
END:VEVENT
BEGIN:VEVENT
DTSTART;TZID=America/Los_Angeles:20251108T190000
DTEND;TZID=America/Los_Angeles:20251108T210000
DTSTAMP:20260419T174911
CREATED:20251103T042557Z
LAST-MODIFIED:20251103T042653Z
UID:10001338-1762628400-1762635600@mortonroxy.org
SUMMARY:The Smashing Machine
DESCRIPTION:
URL:https://mortonroxy.org/event/the-smashing-machine/2025-11-08/
LOCATION:Morton Roxy Theater\, 233 Main Ave\, Morton\, WA\, 98356\, United States
CATEGORIES:Movies
ATTACH;FMTTYPE=image/jpeg:https://mortonroxy.org/wp-content/uploads/2025/11/MV5BOWYxZTM1ZGMtMjg5MC00NzcyLTk0ZTEtZWI0ZThkNDJiYjZmXkEyXkFqcGc@._V1_.jpg
END:VEVENT
END:VCALENDAR