BEGIN:VCALENDAR
VERSION:2.0
PRODID:-//Roxy Theater - ECPv6.15.11//NONSGML v1.0//EN
CALSCALE:GREGORIAN
METHOD:PUBLISH
X-ORIGINAL-URL:https://mortonroxy.org
X-WR-CALDESC:Events for Roxy Theater
REFRESH-INTERVAL;VALUE=DURATION:PT1H
X-Robots-Tag:noindex
X-PUBLISHED-TTL:PT1H
BEGIN:VTIMEZONE
TZID:America/Los_Angeles
BEGIN:DAYLIGHT
TZOFFSETFROM:-0800
TZOFFSETTO:-0700
TZNAME:PDT
DTSTART:20240310T100000
END:DAYLIGHT
BEGIN:STANDARD
TZOFFSETFROM:-0700
TZOFFSETTO:-0800
TZNAME:PST
DTSTART:20241103T090000
END:STANDARD
BEGIN:DAYLIGHT
TZOFFSETFROM:-0800
TZOFFSETTO:-0700
TZNAME:PDT
DTSTART:20250309T100000
END:DAYLIGHT
BEGIN:STANDARD
TZOFFSETFROM:-0700
TZOFFSETTO:-0800
TZNAME:PST
DTSTART:20251102T090000
END:STANDARD
BEGIN:DAYLIGHT
TZOFFSETFROM:-0800
TZOFFSETTO:-0700
TZNAME:PDT
DTSTART:20260308T100000
END:DAYLIGHT
BEGIN:STANDARD
TZOFFSETFROM:-0700
TZOFFSETTO:-0800
TZNAME:PST
DTSTART:20261101T090000
END:STANDARD
END:VTIMEZONE
BEGIN:VEVENT
DTSTART;TZID=America/Los_Angeles:20251213T190000
DTEND;TZID=America/Los_Angeles:20251213T210000
DTSTAMP:20260419T155614
CREATED:20251207T210451Z
LAST-MODIFIED:20251213T044259Z
UID:10001355-1765652400-1765659600@mortonroxy.org
SUMMARY:It Happened on 5th Avenue
DESCRIPTION:
URL:https://mortonroxy.org/event/it-happened-on-5th-avenue/2025-12-13/
LOCATION:WA
CATEGORIES:Movies
ATTACH;FMTTYPE=image/png:https://mortonroxy.org/wp-content/uploads/2025/12/5.png
END:VEVENT
END:VCALENDAR